BEGIN:VCALENDAR
VERSION:2.0
PRODID:-//wp-events-plugin.com//7.2.3.1//EN
TZID:Europe/Berlin
X-WR-TIMEZONE:Europe/Berlin
BEGIN:VEVENT
UID:7761@agrar-tvnews.de
DTSTART;TZID=Europe/Berlin:20250904T234000
DTEND;TZID=Europe/Berlin:20250904T235900
DTSTAMP:20250817T180531Z
URL:https://www.agrar-tvnews.de/sendungen/agnes-und-ihre-kuehe-zwischen-sh
 itstorm-und-stallumbau/
SUMMARY:Agnes und ihre Kühe – Zwischen Shitstorm und Stallumbau
DESCRIPTION:Agnes und ihre Kühe – Zwischen Shitstorm und Stallumbau
CATEGORIES:Bio/Öko,Ernährung,Gartenbau,Landwirtschaft,Obst und Gemüse
LOCATION:3sat Fernsehen\, 3sat\, 3sat\, Deutschland
X-APPLE-STRUCTURED-LOCATION;VALUE=URI;X-ADDRESS=3sat\, 3sat\, Deutschland;X
 -APPLE-RADIUS=100;X-TITLE=3sat Fernsehen:geo:0,0
END:VEVENT
BEGIN:VTIMEZONE
TZID:Europe/Berlin
X-LIC-LOCATION:Europe/Berlin
BEGIN:DAYLIGHT
DTSTART:20250330T030000
TZOFFSETFROM:+0100
TZOFFSETTO:+0200
TZNAME:CEST
END:DAYLIGHT
END:VTIMEZONE
END:VCALENDAR