BEGIN:VCALENDAR
VERSION:2.0
PRODID:-//wp-events-plugin.com//7.2.3.1//EN
TZID:Europe/Berlin
X-WR-TIMEZONE:Europe/Berlin
BEGIN:VEVENT
UID:7607@agrar-tvnews.de
DTSTART;TZID=Europe/Berlin:20250403T181500
DTEND;TZID=Europe/Berlin:20250403T184500
DTSTAMP:20250315T195019Z
URL:https://www.agrar-tvnews.de/sendungen/ein-paar-zwei-hoefe-voller-einsa
 tz-fuer-die-landwirtschaft/
SUMMARY:Ein Paar – zwei Höfe: Voller Einsatz für die Landwirtschaft
DESCRIPTION:Ein Paar – zwei Höfe: Voller Einsatz für die Landwirtschaft
CATEGORIES:Bio/Öko,Ernährung,Gartenbau,Landwirtschaft,Obst und Gemüse
LOCATION:NDR Fernsehen\, Astra 1\,  \, H\, http://www.ndr.de/fernsehen/epg/
 index.html\, Deutschland
GEO:50.960276;10.708003
X-APPLE-STRUCTURED-LOCATION;VALUE=URI;X-ADDRESS=Astra 1\,  \, H\, http://ww
 w.ndr.de/fernsehen/epg/index.html\, Deutschland;X-APPLE-RADIUS=100;X-TITLE
 =NDR Fernsehen:geo:50.960276,10.708003
END:VEVENT
BEGIN:VTIMEZONE
TZID:Europe/Berlin
X-LIC-LOCATION:Europe/Berlin
BEGIN:DAYLIGHT
DTSTART:20250330T030000
TZOFFSETFROM:+0100
TZOFFSETTO:+0200
TZNAME:CEST
END:DAYLIGHT
END:VTIMEZONE
END:VCALENDAR