BEGIN:VCALENDAR
VERSION:2.0
PRODID:-//wp-events-plugin.com//7.2.3.1//EN
TZID:Europe/Berlin
X-WR-TIMEZONE:Europe/Berlin
BEGIN:VEVENT
UID:7560@agrar-tvnews.de
DTSTART;TZID=Europe/Berlin:20250206T090000
DTEND;TZID=Europe/Berlin:20250206T190000
DTSTAMP:20250201T191902Z
URL:https://www.agrar-tvnews.de/sendungen/fruit-logistica-05-07-02-25-mess
 e-berlin-3/
SUMMARY:FRUIT LOGISTICA 05-07.02.25 Messe Berlin
DESCRIPTION:FRUIT LOGISTICA 05-07.02.25 Messe Berlin
ATTACH;FMTTYPE=image/jpeg:https://www.agrar-tvnews.de/wp-content/uploads/2
 025/02/Fruit-Logistica-Berlin-2025-2.png
CATEGORIES:Bio/Öko,Ernährung,Gartenbau,Landwirtschaft,Obst und Gemüse
LOCATION:Messe\, Messe\, Messe\, Deutschland
X-APPLE-STRUCTURED-LOCATION;VALUE=URI;X-ADDRESS=Messe\, Messe\, Deutschland
 ;X-APPLE-RADIUS=100;X-TITLE=Messe:geo:0,0
END:VEVENT
BEGIN:VTIMEZONE
TZID:Europe/Berlin
X-LIC-LOCATION:Europe/Berlin
BEGIN:STANDARD
DTSTART:20241027T020000
TZOFFSETFROM:+0200
TZOFFSETTO:+0100
TZNAME:CET
END:STANDARD
END:VTIMEZONE
END:VCALENDAR