BEGIN:VCALENDAR
VERSION:2.0
PRODID:-//wp-events-plugin.com//7.2.3.1//EN
TZID:Europe/Berlin
X-WR-TIMEZONE:Europe/Berlin
BEGIN:VEVENT
UID:7435@agrar-tvnews.de
DTSTART;TZID=Europe/Berlin:20241119T201500
DTEND;TZID=Europe/Berlin:20241119T211500
DTSTAMP:20241115T214141Z
URL:https://www.agrar-tvnews.de/sendungen/insekten-essen/
SUMMARY:Insekten essen
DESCRIPTION:Insekten essen
CATEGORIES:Bio/Öko,Ernährung,Gartenbau,Landwirtschaft,Obst und Gemüse
LOCATION:N 24 - Welt Fernsehen\, Astra 1\,  \, H\, http://www.n24.de/php/ep
 g.php\, Deutschland
X-APPLE-STRUCTURED-LOCATION;VALUE=URI;X-ADDRESS=Astra 1\,  \, H\, http://ww
 w.n24.de/php/epg.php\, Deutschland;X-APPLE-RADIUS=100;X-TITLE=N 24 - Welt 
 Fernsehen:geo:0,0
END:VEVENT
BEGIN:VTIMEZONE
TZID:Europe/Berlin
X-LIC-LOCATION:Europe/Berlin
BEGIN:STANDARD
DTSTART:20241027T020000
TZOFFSETFROM:+0200
TZOFFSETTO:+0100
TZNAME:CET
END:STANDARD
END:VTIMEZONE
END:VCALENDAR