BEGIN:VCALENDAR
VERSION:2.0
PRODID:-//wp-events-plugin.com//7.2.3.1//EN
TZID:Europe/Berlin
X-WR-TIMEZONE:Europe/Berlin
BEGIN:VEVENT
UID:8078@agrar-tvnews.de
DTSTART;TZID=Europe/Berlin:20260422T201500
DTEND;TZID=Europe/Berlin:20260422T221500
DTSTAMP:20260420T200014Z
URL:https://www.agrar-tvnews.de/sendungen/inside-supermarkt/
SUMMARY:Inside Supermarkt
DESCRIPTION:Inside Supermarkt
CATEGORIES:Bio/Öko,Ernährung,Gartenbau,Landwirtschaft,Obst und Gemüse
LOCATION:RTL Fernsehen\, Astra 1\,  \, H\, http://www.rtl.de/fernsehprogram
 m\, Deutschland
X-APPLE-STRUCTURED-LOCATION;VALUE=URI;X-ADDRESS=Astra 1\,  \, H\, http://ww
 w.rtl.de/fernsehprogramm\, Deutschland;X-APPLE-RADIUS=100;X-TITLE=RTL Fern
 sehen:geo:0,0
END:VEVENT
BEGIN:VTIMEZONE
TZID:Europe/Berlin
X-LIC-LOCATION:Europe/Berlin
BEGIN:DAYLIGHT
DTSTART:20260329T030000
TZOFFSETFROM:+0100
TZOFFSETTO:+0200
TZNAME:CEST
END:DAYLIGHT
END:VTIMEZONE
END:VCALENDAR