BEGIN:VCALENDAR
VERSION:2.0
PRODID:-//wp-events-plugin.com//7.2.3.1//EN
TZID:Europe/Berlin
X-WR-TIMEZONE:Europe/Berlin
BEGIN:VEVENT
UID:7707@agrar-tvnews.de
DTSTART;TZID=Europe/Berlin:20250623T222000
DTEND;TZID=Europe/Berlin:20250623T232000
DTSTAMP:20250616T194350Z
URL:https://www.agrar-tvnews.de/sendungen/karls-erdbeer-kult-vom-acker-zum
 -imperium/
SUMMARY:Karls Erdbeer-Kult! Vom Acker zum Imperium
DESCRIPTION:Karls Erdbeer-Kult! Vom Acker zum Imperium
CATEGORIES:Bio/Öko,Ernährung,Gartenbau,Landwirtschaft,Obst und Gemüse
LOCATION:Sat. 1 Fernsehen\, Astra 1\,  \, H\, http://www.sat1.de/tvprogramm
 _community/tvprogramm/\, Deutschland
X-APPLE-STRUCTURED-LOCATION;VALUE=URI;X-ADDRESS=Astra 1\,  \, H\, http://ww
 w.sat1.de/tvprogramm_community/tvprogramm/\, Deutschland;X-APPLE-RADIUS=10
 0;X-TITLE=Sat. 1 Fernsehen:geo:0,0
END:VEVENT
BEGIN:VTIMEZONE
TZID:Europe/Berlin
X-LIC-LOCATION:Europe/Berlin
BEGIN:DAYLIGHT
DTSTART:20250330T030000
TZOFFSETFROM:+0100
TZOFFSETTO:+0200
TZNAME:CEST
END:DAYLIGHT
END:VTIMEZONE
END:VCALENDAR