BEGIN:VCALENDAR
VERSION:2.0
PRODID:-//wp-events-plugin.com//7.2.3.1//EN
TZID:Europe/Berlin
X-WR-TIMEZONE:Europe/Berlin
BEGIN:VEVENT
UID:7888@agrar-tvnews.de
DTSTART;TZID=Europe/Berlin:20251216T201500
DTEND;TZID=Europe/Berlin:20251216T210000
DTSTAMP:20251214T210336Z
URL:https://www.agrar-tvnews.de/sendungen/lidl-gegen-aldi-welches-weihnach
 tsessen-bietet-mehr/
SUMMARY:Lidl gegen Aldi – welches Weihnachtsessen bietet mehr?
DESCRIPTION:Lidl gegen Aldi – welches Weihnachtsessen bietet mehr?
CATEGORIES:Bio/Öko,Ernährung,Gartenbau,Landwirtschaft,Obst und Gemüse
LOCATION:SWR\, Astra 1\,     \, H\, http://www.swr.de/tv/\, Deutschland
GEO:50.960276;10.708003
X-APPLE-STRUCTURED-LOCATION;VALUE=URI;X-ADDRESS=Astra 1\,     \, H\, http:/
 /www.swr.de/tv/\, Deutschland;X-APPLE-RADIUS=100;X-TITLE=SWR:geo:50.960276
 ,10.708003
END:VEVENT
BEGIN:VTIMEZONE
TZID:Europe/Berlin
X-LIC-LOCATION:Europe/Berlin
BEGIN:STANDARD
DTSTART:20251026T020000
TZOFFSETFROM:+0200
TZOFFSETTO:+0100
TZNAME:CET
END:STANDARD
END:VTIMEZONE
END:VCALENDAR