BEGIN:VCALENDAR
VERSION:2.0
PRODID:-//wp-events-plugin.com//7.2.3.1//EN
TZID:Europe/Berlin
X-WR-TIMEZONE:Europe/Berlin
BEGIN:VEVENT
UID:7692@agrar-tvnews.de
DTSTART;TZID=Europe/Berlin:20250707T222000
DTEND;TZID=Europe/Berlin:20250707T230500
DTSTAMP:20250615T201654Z
URL:https://www.agrar-tvnews.de/sendungen/mein-koerper-meine-konzentration
 -wie-kann-ich-sie-steigern/
SUMMARY:Mein Körper. Meine Konzentration. – Wie kann ich sie steigern?
DESCRIPTION:Mein Körper. Meine Konzentration. – Wie kann ich sie steiger
 n?
CATEGORIES:Bio/Öko,Ernährung,Gartenbau,Landwirtschaft,Obst und Gemüse
LOCATION:Das Erste\, Astra 1\,  \, H\, http://mediathek.daserste.de/sendung
 Verpasst\, Deutschland
GEO:50.96027609999999;10.708003200000007
X-APPLE-STRUCTURED-LOCATION;VALUE=URI;X-ADDRESS=Astra 1\,  \, H\, http://me
 diathek.daserste.de/sendungVerpasst\, Deutschland;X-APPLE-RADIUS=100;X-TIT
 LE=Das Erste:geo:50.96027609999999,10.708003200000007
END:VEVENT
BEGIN:VTIMEZONE
TZID:Europe/Berlin
X-LIC-LOCATION:Europe/Berlin
BEGIN:DAYLIGHT
DTSTART:20250330T030000
TZOFFSETFROM:+0100
TZOFFSETTO:+0200
TZNAME:CEST
END:DAYLIGHT
END:VTIMEZONE
END:VCALENDAR