BEGIN:VCALENDAR
VERSION:2.0
PRODID:-//wp-events-plugin.com//7.2.3.1//EN
TZID:Europe/Berlin
X-WR-TIMEZONE:Europe/Berlin
BEGIN:VEVENT
UID:7926@agrar-tvnews.de
DTSTART;TZID=Europe/Berlin:20260203T181500
DTEND;TZID=Europe/Berlin:20260203T184500
DTSTAMP:20260115T192735Z
URL:https://www.agrar-tvnews.de/sendungen/naturschutz-do-it-yourself-klein
 e-bachpaten-und-grosse-biotop-vernetzer/
SUMMARY:Naturschutz „Do it yourself“ – Kleine Bachpaten und große Bi
 otop-Vernetzer
DESCRIPTION:Naturschutz „Do it yourself“ – Kleine Bachpaten und groß
 e Biotop-Vernetzer
CATEGORIES:Bio/Öko,Ernährung,Gartenbau,Landwirtschaft,Obst und Gemüse
LOCATION:ARD alpha\, Astra 1\,  \, H\, ttp://www.br-online.de/br-alpha/prog
 ramm/index.xml\, Deutschland
X-APPLE-STRUCTURED-LOCATION;VALUE=URI;X-ADDRESS=Astra 1\,  \, H\, ttp://www
 .br-online.de/br-alpha/programm/index.xml\, Deutschland;X-APPLE-RADIUS=100
 ;X-TITLE=ARD alpha:geo:0,0
END:VEVENT
BEGIN:VTIMEZONE
TZID:Europe/Berlin
X-LIC-LOCATION:Europe/Berlin
BEGIN:STANDARD
DTSTART:20251026T020000
TZOFFSETFROM:+0200
TZOFFSETTO:+0100
TZNAME:CET
END:STANDARD
END:VTIMEZONE
END:VCALENDAR