BEGIN:VCALENDAR
VERSION:2.0
PRODID:-//wp-events-plugin.com//7.2.3.1//EN
TZID:Europe/Berlin
X-WR-TIMEZONE:Europe/Berlin
BEGIN:VEVENT
UID:7372@agrar-tvnews.de
DTSTART;TZID=Europe/Berlin:20241113T131000
DTEND;TZID=Europe/Berlin:20241113T134500
DTSTAMP:20241013T191540Z
URL:https://www.agrar-tvnews.de/sendungen/safran-sauerruebe-und-weinbau-wi
 e-vor-100-jahren-neu-entdeckt-2/
SUMMARY:Safran\, Sauerrübe und Weinbau wie vor 100 Jahren neu entdeckt
DESCRIPTION:Safran\, Sauerrübe und Weinbau wie vor 100 Jahren neu entdeckt
CATEGORIES:Bio/Öko,Ernährung,Gartenbau,Landwirtschaft,Obst und Gemüse
LOCATION:rbb Fernsehen\, Astra 1\,  \, H\, http://www.rbb-online.de/fernseh
 en/programm/index.html\, Deutschland
X-APPLE-STRUCTURED-LOCATION;VALUE=URI;X-ADDRESS=Astra 1\,  \, H\, http://ww
 w.rbb-online.de/fernsehen/programm/index.html\, Deutschland;X-APPLE-RADIUS
 =100;X-TITLE=rbb Fernsehen:geo:0,0
END:VEVENT
BEGIN:VTIMEZONE
TZID:Europe/Berlin
X-LIC-LOCATION:Europe/Berlin
BEGIN:STANDARD
DTSTART:20241027T020000
TZOFFSETFROM:+0200
TZOFFSETTO:+0100
TZNAME:CET
END:STANDARD
END:VTIMEZONE
END:VCALENDAR