BEGIN:VCALENDAR
VERSION:2.0
PRODID:-//wp-events-plugin.com//7.2.3.1//EN
TZID:Europe/Berlin
X-WR-TIMEZONE:Europe/Berlin
BEGIN:VEVENT
UID:7574@agrar-tvnews.de
DTSTART;TZID=Europe/Berlin:20250203T201500
DTEND;TZID=Europe/Berlin:20250203T210000
DTSTAMP:20250201T194420Z
URL:https://www.agrar-tvnews.de/sendungen/wie-extrem-wird-das-wetter-sven-
 ploeger-wenn-die-arktis-schmilzt/
SUMMARY:Wie extrem wird das Wetter\, Sven Plöger? Wenn die Arktis schmilzt
DESCRIPTION:Wie extrem wird das Wetter\, Sven Plöger?\nWenn die Arktis sch
 milzt
CATEGORIES:Bio/Öko,Ernährung,Gartenbau,Landwirtschaft,Obst und Gemüse
LOCATION:Das Erste\, Astra 1\,  \, H\, http://mediathek.daserste.de/sendung
 Verpasst\, Deutschland
GEO:50.96027609999999;10.708003200000007
X-APPLE-STRUCTURED-LOCATION;VALUE=URI;X-ADDRESS=Astra 1\,  \, H\, http://me
 diathek.daserste.de/sendungVerpasst\, Deutschland;X-APPLE-RADIUS=100;X-TIT
 LE=Das Erste:geo:50.96027609999999,10.708003200000007
END:VEVENT
BEGIN:VTIMEZONE
TZID:Europe/Berlin
X-LIC-LOCATION:Europe/Berlin
BEGIN:STANDARD
DTSTART:20241027T020000
TZOFFSETFROM:+0200
TZOFFSETTO:+0100
TZNAME:CET
END:STANDARD
END:VTIMEZONE
END:VCALENDAR