BEGIN:VCALENDAR
VERSION:2.0
PRODID:-//wp-events-plugin.com//7.2.3.1//EN
TZID:Europe/Berlin
X-WR-TIMEZONE:Europe/Berlin
BEGIN:VEVENT
UID:7844@agrar-tvnews.de
DTSTART;TZID=Europe/Berlin:20251120T115500
DTEND;TZID=Europe/Berlin:20251120T123000
DTSTAMP:20251015T185553Z
URL:https://www.agrar-tvnews.de/sendungen/wo-bio-zu-hause-ist-die-heumilch
 region-im-salzburger-seenland/
SUMMARY:Wo Bio zu Hause ist - Die Heumilchregion im Salzburger Seenland
DESCRIPTION:Wo Bio zu Hause ist - Die Heumilchregion im Salzburger Seenland
CATEGORIES:Bio/Öko,Ernährung,Gartenbau,Landwirtschaft,Obst und Gemüse
LOCATION:3sat Fernsehen\, 3sat\, 3sat\, Deutschland
X-APPLE-STRUCTURED-LOCATION;VALUE=URI;X-ADDRESS=3sat\, 3sat\, Deutschland;X
 -APPLE-RADIUS=100;X-TITLE=3sat Fernsehen:geo:0,0
END:VEVENT
BEGIN:VTIMEZONE
TZID:Europe/Berlin
X-LIC-LOCATION:Europe/Berlin
BEGIN:STANDARD
DTSTART:20251026T020000
TZOFFSETFROM:+0200
TZOFFSETTO:+0100
TZNAME:CET
END:STANDARD
END:VTIMEZONE
END:VCALENDAR